BEGIN:VCALENDAR
VERSION:2.0
PRODID:-//1. Hanauer Schwimmverein 1912 e.V. - ECPv6.2.9//NONSGML v1.0//EN
CALSCALE:GREGORIAN
METHOD:PUBLISH
X-ORIGINAL-URL:https://hanauer-schwimmverein.de
X-WR-CALDESC:Veranstaltungen für 1. Hanauer Schwimmverein 1912 e.V.
REFRESH-INTERVAL;VALUE=DURATION:PT1H
X-Robots-Tag:noindex
X-PUBLISHED-TTL:PT1H
BEGIN:VTIMEZONE
TZID:Europe/Berlin
BEGIN:DAYLIGHT
TZOFFSETFROM:+0100
TZOFFSETTO:+0200
TZNAME:CEST
DTSTART:20240331T010000
END:DAYLIGHT
BEGIN:STANDARD
TZOFFSETFROM:+0200
TZOFFSETTO:+0100
TZNAME:CET
DTSTART:20241027T010000
END:STANDARD
END:VTIMEZONE
BEGIN:VEVENT
DTSTART;VALUE=DATE:20241005
DTEND;VALUE=DATE:20241006
DTSTAMP:20260420T020957
CREATED:20240116T212016Z
LAST-MODIFIED:20241002T110617Z
UID:4129-1728086400-1728172799@hanauer-schwimmverein.de
SUMMARY:Einladungswettkampf im Heinrich Fischer Bad am 05.10.24
DESCRIPTION:Wir laden euch herzlich zu unserem Einladungswettkampf ein! Am 05. Oktober 2024 geht es ab ins Wasser im Heinrich Fischer Bad. Markiert euch das Datum im Kalender und seid bereit für spannende Wettkämpfe\, Teamgeist und jede Menge Spaß. Egal ob Athlet oder Zuschauer – wir freuen uns auf eine großartige gemeinsame Zeit. Lasst uns das Heinrich Fischer Bad zum Schwimm-Mittelpunkt machen! 🏊‍♂️🌟🗓️ \n19. Hanauer Einheitsschwimmen \n  \nDas Meldeergebnis ist da\, hier herunterladen: \nMeldeergebnis
URL:https://hanauer-schwimmverein.de/termine/einladungswettkampf-im-heinrich-fischer-bad-am-05-10-24/
LOCATION:Heinrich-Fischer-Bad Hanau\, Eugen-Kaiser-Straße 19\, Hanau\,  63450
ATTACH;FMTTYPE=image/jpeg:https://hanauer-schwimmverein.de/wp-content/uploads/2019/10/IMG_0255-e1705439974854.jpg
ORGANIZER;CN="1. Hanauer Schwimmverein 1912 e.V.":MAILTO:mail@hanauer-schwimmverein.de
END:VEVENT
END:VCALENDAR