BEGIN:VCALENDAR
VERSION:2.0
PRODID:-//1. Hanauer Schwimmverein 1912 e.V. - ECPv6.2.9//NONSGML v1.0//EN
CALSCALE:GREGORIAN
METHOD:PUBLISH
X-WR-CALNAME:1. Hanauer Schwimmverein 1912 e.V.
X-ORIGINAL-URL:https://hanauer-schwimmverein.de
X-WR-CALDESC:Veranstaltungen fÃ¼r 1. Hanauer Schwimmverein 1912 e.V.
REFRESH-INTERVAL;VALUE=DURATION:PT1H
X-Robots-Tag:noindex
X-PUBLISHED-TTL:PT1H
BEGIN:VTIMEZONE
TZID:Europe/Berlin
BEGIN:DAYLIGHT
TZOFFSETFROM:+0100
TZOFFSETTO:+0200
TZNAME:CEST
DTSTART:20240331T010000
END:DAYLIGHT
BEGIN:STANDARD
TZOFFSETFROM:+0200
TZOFFSETTO:+0100
TZNAME:CET
DTSTART:20241027T010000
END:STANDARD
END:VTIMEZONE
BEGIN:VEVENT
DTSTART;TZID=Europe/Berlin:20241129T080000
DTEND;TZID=Europe/Berlin:20241201T170000
DTSTAMP:20260421T144609
CREATED:20240706T114451Z
LAST-MODIFIED:20240706T115332Z
UID:4668-1732867200-1733072400@hanauer-schwimmverein.de
SUMMARY:Trainingslager im Jugendzentrum Ronneburg vom 29.11 - 01.12.24
DESCRIPTION:
URL:https://hanauer-schwimmverein.de/termine/trainingslager-im-jugendzentrum-ronneburg-vom-29-11-01-12-24/
ATTACH;FMTTYPE=image/jpeg:https://hanauer-schwimmverein.de/wp-content/uploads/2023/10/IMG-20221009-WA0012.jpg
END:VEVENT
BEGIN:VEVENT
DTSTART;TZID=Europe/Berlin:20241207T150000
DTEND;TZID=Europe/Berlin:20241207T210000
DTSTAMP:20260421T144609
CREATED:20240706T115554Z
LAST-MODIFIED:20240706T134832Z
UID:4676-1733583600-1733605200@hanauer-schwimmverein.de
SUMMARY:Weihnachtsfeier im Nachbarschaftshaus TÃ¼mpelgarten am 07.12.24 um 15.00 Uhr
DESCRIPTION: 
URL:https://hanauer-schwimmverein.de/termine/weihnachtsfeier-im-nachbarschaftshaus-tuempelgarten-am-07-12-24-um-15-00-uhr/
LOCATION:Nachbarschaftshaus TÃ¼mpelgarten\, Am TÃ¼mpelgarten 21\, Hanau\, 63452
ATTACH;FMTTYPE=image/jpeg:https://hanauer-schwimmverein.de/wp-content/uploads/2022/11/IMG-20221127-WA0016-e1701316148958.jpg
END:VEVENT
END:VCALENDAR