BEGIN:VCALENDAR
VERSION:2.0
PRODID:-//1. Hanauer Schwimmverein 1912 e.V. - ECPv6.2.9//NONSGML v1.0//EN
CALSCALE:GREGORIAN
METHOD:PUBLISH
X-ORIGINAL-URL:https://hanauer-schwimmverein.de
X-WR-CALDESC:Veranstaltungen für 1. Hanauer Schwimmverein 1912 e.V.
REFRESH-INTERVAL;VALUE=DURATION:PT1H
X-Robots-Tag:noindex
X-PUBLISHED-TTL:PT1H
BEGIN:VTIMEZONE
TZID:Europe/Berlin
BEGIN:DAYLIGHT
TZOFFSETFROM:+0100
TZOFFSETTO:+0200
TZNAME:CEST
DTSTART:20230326T010000
END:DAYLIGHT
BEGIN:STANDARD
TZOFFSETFROM:+0200
TZOFFSETTO:+0100
TZNAME:CET
DTSTART:20231029T010000
END:STANDARD
END:VTIMEZONE
BEGIN:VEVENT
DTSTART;TZID=Europe/Berlin:20230512T200000
DTEND;TZID=Europe/Berlin:20230512T220000
DTSTAMP:20260422T202146
CREATED:20230127T081735Z
LAST-MODIFIED:20230127T081735Z
UID:1932-1683921600-1683928800@hanauer-schwimmverein.de
SUMMARY:Jahreshauptversammlung
DESCRIPTION:
URL:https://hanauer-schwimmverein.de/termine/jahreshauptversammlung-4/
LOCATION:Vereinsheim 1. HSV\, Kinzigstraße\, Hanau\, 63450\, Deutschland
END:VEVENT
END:VCALENDAR