BEGIN:VCALENDAR
VERSION:2.0
PRODID:-//1. Hanauer Schwimmverein 1912 e.V. - ECPv6.2.9//NONSGML v1.0//EN
CALSCALE:GREGORIAN
METHOD:PUBLISH
X-ORIGINAL-URL:https://hanauer-schwimmverein.de
X-WR-CALDESC:Veranstaltungen für 1. Hanauer Schwimmverein 1912 e.V.
REFRESH-INTERVAL;VALUE=DURATION:PT1H
X-Robots-Tag:noindex
X-PUBLISHED-TTL:PT1H
BEGIN:VTIMEZONE
TZID:Europe/Berlin
BEGIN:DAYLIGHT
TZOFFSETFROM:+0100
TZOFFSETTO:+0200
TZNAME:CEST
DTSTART:20220327T010000
END:DAYLIGHT
BEGIN:STANDARD
TZOFFSETFROM:+0200
TZOFFSETTO:+0100
TZNAME:CET
DTSTART:20221030T010000
END:STANDARD
END:VTIMEZONE
BEGIN:VEVENT
DTSTART;TZID=Europe/Berlin:20221001T083000
DTEND;TZID=Europe/Berlin:20221002T170000
DTSTAMP:20260423T074453
CREATED:20220718T105825Z
LAST-MODIFIED:20240704T122041Z
UID:1845-1664613000-1664730000@hanauer-schwimmverein.de
SUMMARY:17. Hanauer Einheitsschwimmen & Kreismeisterschaften des Main-Kinzig-Kreises 2022
DESCRIPTION:Ausschreibung: 20221002_Hanau_Au\n\nMeldeergebnis: 221001-Hanau\n\nProtokoll: proto_gesamt
URL:https://hanauer-schwimmverein.de/termine/17-hanauer-einheitsschwimmen-kreismeisterschaften-des-main-kinzig-kreises-2022/
LOCATION:Heinrich-Fischer-Bad Hanau\, Eugen-Kaiser-Straße 19\, Hanau\,  63450
CATEGORIES:Wettkämpfe
END:VEVENT
BEGIN:VEVENT
DTSTART;TZID=Europe/Berlin:20221007T180000
DTEND;TZID=Europe/Berlin:20221009T140000
DTSTAMP:20260423T074453
CREATED:20220718T061222Z
LAST-MODIFIED:20220718T061222Z
UID:1841-1665165600-1665324000@hanauer-schwimmverein.de
SUMMARY:Trainingslager
DESCRIPTION:
URL:https://hanauer-schwimmverein.de/termine/trainingslager-3/
LOCATION:JUZ Ronneburg\, Auf dem Weißen Berg\, Ronneburg\, 63549
END:VEVENT
BEGIN:VEVENT
DTSTART;TZID=Europe/Berlin:20221014T200000
DTEND;TZID=Europe/Berlin:20221014T220000
DTSTAMP:20260423T074453
CREATED:20220720T062042Z
LAST-MODIFIED:20220720T062042Z
UID:1859-1665777600-1665784800@hanauer-schwimmverein.de
SUMMARY:Jahreshauptversammlung
DESCRIPTION:
URL:https://hanauer-schwimmverein.de/termine/jahreshauptversammlung-3/
LOCATION:Vereinsheim 1. HSV\, Kinzigstraße\, Hanau\, 63450\, Deutschland
END:VEVENT
END:VCALENDAR