BEGIN:VCALENDAR
VERSION:2.0
PRODID:-//1. Hanauer Schwimmverein 1912 e.V. - ECPv6.2.9//NONSGML v1.0//EN
CALSCALE:GREGORIAN
METHOD:PUBLISH
X-ORIGINAL-URL:https://hanauer-schwimmverein.de
X-WR-CALDESC:Veranstaltungen für 1. Hanauer Schwimmverein 1912 e.V.
REFRESH-INTERVAL;VALUE=DURATION:PT1H
X-Robots-Tag:noindex
X-PUBLISHED-TTL:PT1H
BEGIN:VTIMEZONE
TZID:Europe/Berlin
BEGIN:DAYLIGHT
TZOFFSETFROM:+0100
TZOFFSETTO:+0200
TZNAME:CEST
DTSTART:20220327T010000
END:DAYLIGHT
BEGIN:STANDARD
TZOFFSETFROM:+0200
TZOFFSETTO:+0100
TZNAME:CET
DTSTART:20221030T010000
END:STANDARD
END:VTIMEZONE
BEGIN:VEVENT
DTSTART;TZID=Europe/Berlin:20220711T190000
DTEND;TZID=Europe/Berlin:20220711T203000
DTSTAMP:20260423T121439
CREATED:20220527T114321Z
LAST-MODIFIED:20220602T060058Z
UID:1782-1657566000-1657571400@hanauer-schwimmverein.de
SUMMARY:Sommer-Vereinsmeisterschaften 2022
DESCRIPTION:Ausschreibung: Sommervereinsmeisterschaften 2022 \nEinschwimmen von 19:00 Uhr ist 19:15 Uhr. Beginn ist 19:30 Uhr!! \nDie Wertungen erfolgen bahnweise\, NICHT unterteilt nach Jahrgängen. \nDie Trainer der jeweiligen Gruppe bzw. Mannschaft erhalten eine Tabelle\, in der die Schwimmer eingetragen werden. Ein Meldeergebnis wird nicht erstellt. \nEs gibt Urkunden zu gewinnen\, die am 15.07.22 im Rahmen des Sommerfestes am Vereinsheim übergeben werden. \nViel Spaß und Erfolg wünscht das Trainerteam
URL:https://hanauer-schwimmverein.de/termine/vereinseigener-wettkampf/
LOCATION:Heinrich-Fischer-Bad Hanau\, Eugen-Kaiser-Straße 19\, Hanau\,  63450
END:VEVENT
BEGIN:VEVENT
DTSTART;TZID=Europe/Berlin:20220715T190000
DTEND;TZID=Europe/Berlin:20220715T210000
DTSTAMP:20260423T121439
CREATED:20220527T120430Z
LAST-MODIFIED:20220527T120430Z
UID:1784-1657911600-1657918800@hanauer-schwimmverein.de
SUMMARY:Sommerfest
DESCRIPTION:Die Urkunden der Sommer-Vereinsmeisterschaft werden verliehen und wir freuen uns auf ein gemütliches Beisammensein bei Grill-Würstchen und mitgebrachten Salaten.
URL:https://hanauer-schwimmverein.de/termine/sommerfest/
LOCATION:Vereinsheim 1. HSV\, Kinzigstraße\, Hanau\, 63450\, Deutschland
END:VEVENT
END:VCALENDAR