BEGIN:VCALENDAR
VERSION:2.0
PRODID:-//1. Hanauer Schwimmverein 1912 e.V. - ECPv6.2.9//NONSGML v1.0//EN
CALSCALE:GREGORIAN
METHOD:PUBLISH
X-WR-CALNAME:1. Hanauer Schwimmverein 1912 e.V.
X-ORIGINAL-URL:https://hanauer-schwimmverein.de
X-WR-CALDESC:Veranstaltungen für 1. Hanauer Schwimmverein 1912 e.V.
REFRESH-INTERVAL;VALUE=DURATION:PT1H
X-Robots-Tag:noindex
X-PUBLISHED-TTL:PT1H
BEGIN:VTIMEZONE
TZID:Europe/Berlin
BEGIN:DAYLIGHT
TZOFFSETFROM:+0100
TZOFFSETTO:+0200
TZNAME:CEST
DTSTART:20200329T010000
END:DAYLIGHT
BEGIN:STANDARD
TZOFFSETFROM:+0200
TZOFFSETTO:+0100
TZNAME:CET
DTSTART:20201025T010000
END:STANDARD
END:VTIMEZONE
BEGIN:VEVENT
DTSTART;TZID=Europe/Berlin:20200425T080000
DTEND;TZID=Europe/Berlin:20200425T170000
DTSTAMP:20260425T045526
CREATED:20191204T124602Z
LAST-MODIFIED:20200416T041443Z
UID:1454-1587801600-1587834000@hanauer-schwimmverein.de
SUMMARY:ABESAGT: 7. Baugesellschafts-Cup
DESCRIPTION:Ausschreibung: 2020-04-25-Hanau-Au
URL:https://hanauer-schwimmverein.de/termine/7-baugesellschafts-cup/
LOCATION:Lindenaubad\, Rue de Conflans 7\, Hanau\, 63457
CATEGORIES:Wettkämpfe
END:VEVENT
END:VCALENDAR