BEGIN:VCALENDAR
VERSION:2.0
PRODID:-//1. Hanauer Schwimmverein 1912 e.V. - ECPv6.2.9//NONSGML v1.0//EN
CALSCALE:GREGORIAN
METHOD:PUBLISH
X-WR-CALNAME:1. Hanauer Schwimmverein 1912 e.V.
X-ORIGINAL-URL:https://hanauer-schwimmverein.de
X-WR-CALDESC:Veranstaltungen für 1. Hanauer Schwimmverein 1912 e.V.
REFRESH-INTERVAL;VALUE=DURATION:PT1H
X-Robots-Tag:noindex
X-PUBLISHED-TTL:PT1H
BEGIN:VTIMEZONE
TZID:Europe/Berlin
BEGIN:DAYLIGHT
TZOFFSETFROM:+0100
TZOFFSETTO:+0200
TZNAME:CEST
DTSTART:20200329T010000
END:DAYLIGHT
BEGIN:STANDARD
TZOFFSETFROM:+0200
TZOFFSETTO:+0100
TZNAME:CET
DTSTART:20201025T010000
END:STANDARD
END:VTIMEZONE
BEGIN:VEVENT
DTSTART;TZID=Europe/Berlin:20200228T170000
DTEND;TZID=Europe/Berlin:20200301T140000
DTSTAMP:20260425T062133
CREATED:20191204T131506Z
LAST-MODIFIED:20191204T131506Z
UID:1488-1582909200-1583071200@hanauer-schwimmverein.de
SUMMARY:Trainingslager
DESCRIPTION:
URL:https://hanauer-schwimmverein.de/termine/trainingslager/
LOCATION:JUZ Ronneburg\, Auf dem Weißen Berg\, Ronneburg\, 63549
END:VEVENT
BEGIN:VEVENT
DTSTART;TZID=Europe/Berlin:20200306T080000
DTEND;TZID=Europe/Berlin:20200308T170000
DTSTAMP:20260425T062133
CREATED:20191204T115133Z
LAST-MODIFIED:20200309T054505Z
UID:1438-1583481600-1583686800@hanauer-schwimmverein.de
SUMMARY:Frühjahrsschwimmfest in Wetzlar
DESCRIPTION:Ausschreibung: 2020-03-08-Wetzlar-Au \nMeldeergebnis: mm017 \nProtokoll: Protokoll_FSF2020
URL:https://hanauer-schwimmverein.de/termine/fruehjahrsschwimmfest-in-wetzlar/
LOCATION:Europabad\, Frankfurter Straße 88\, Wetzlar\, 35578
CATEGORIES:Wettkämpfe
END:VEVENT
BEGIN:VEVENT
DTSTART;TZID=Europe/Berlin:20200314T080000
DTEND;TZID=Europe/Berlin:20200314T170000
DTSTAMP:20260425T062133
CREATED:20191204T115430Z
LAST-MODIFIED:20200312T173611Z
UID:1445-1584172800-1584205200@hanauer-schwimmverein.de
SUMMARY:ABGESAGT: 46. Wilhelm-Pompe-Gedächtnis-Schwimmen
DESCRIPTION:DER WETTKAMPF WURDE LEIDER ABGESAGT\nUND FINDET NICHT STATT
URL:https://hanauer-schwimmverein.de/termine/46-wilhelm-pompe-gedaechtnis-schwimmen/
LOCATION:Heinrich-Fischer-Bad Hanau\, Eugen-Kaiser-Straße 19\, Hanau\,  63450
CATEGORIES:Wettkämpfe
END:VEVENT
BEGIN:VEVENT
DTSTART;TZID=Europe/Berlin:20200320T200000
DTEND;TZID=Europe/Berlin:20200320T220000
DTSTAMP:20260425T062133
CREATED:20191217T131251Z
LAST-MODIFIED:20200314T101202Z
UID:1572-1584734400-1584741600@hanauer-schwimmverein.de
SUMMARY:ABGESAGT: Jahreshauptversammlung des 1. Hanauer Schwimmvereins 1912 e.V.
DESCRIPTION:
URL:https://hanauer-schwimmverein.de/termine/jahreshauptversammlung/
LOCATION:Heinrich-Fischer-Bad Hanau\, Eugen-Kaiser-Straße 19\, Hanau\,  63450
END:VEVENT
END:VCALENDAR