BEGIN:VCALENDAR
VERSION:2.0
PRODID:-//1. Hanauer Schwimmverein 1912 e.V. - ECPv6.2.9//NONSGML v1.0//EN
CALSCALE:GREGORIAN
METHOD:PUBLISH
X-ORIGINAL-URL:https://hanauer-schwimmverein.de
X-WR-CALDESC:Veranstaltungen für 1. Hanauer Schwimmverein 1912 e.V.
REFRESH-INTERVAL;VALUE=DURATION:PT1H
X-Robots-Tag:noindex
X-PUBLISHED-TTL:PT1H
BEGIN:VTIMEZONE
TZID:Europe/Berlin
BEGIN:DAYLIGHT
TZOFFSETFROM:+0100
TZOFFSETTO:+0200
TZNAME:CEST
DTSTART:20190331T010000
END:DAYLIGHT
BEGIN:STANDARD
TZOFFSETFROM:+0200
TZOFFSETTO:+0100
TZNAME:CET
DTSTART:20191027T010000
END:STANDARD
END:VTIMEZONE
BEGIN:VEVENT
DTSTART;TZID=Europe/Berlin:20191013T083000
DTEND;TZID=Europe/Berlin:20191013T180000
DTSTAMP:20260425T131919
CREATED:20190907T150142Z
LAST-MODIFIED:20191013T140442Z
UID:977-1570955400-1570989600@hanauer-schwimmverein.de
SUMMARY:16. Hanauer Einheitsschwimmen zum Tag der Deutschen Einheit
DESCRIPTION:Die Ausschreibung ist hier zu finden. \nDSV-Datei: https://dsvdaten.dsv.de/Modules/Schedule/Meet.aspx?MeetID=9692019 \nMeldeergebnis: 191013-Hanau-1_Hanauer_SV_1912 \nProtokotoll: Protokoll
URL:https://hanauer-schwimmverein.de/termine/wettkampf-test/
LOCATION:Heinrich-Fischer-Bad Hanau\, Eugen-Kaiser-Straße 19\, Hanau\,  63450
CATEGORIES:Wettkämpfe
END:VEVENT
BEGIN:VEVENT
DTSTART;TZID=Europe/Berlin:20191026T080000
DTEND;TZID=Europe/Berlin:20191026T170000
DTSTAMP:20260425T131919
CREATED:20190914T082849Z
LAST-MODIFIED:20191027T054748Z
UID:1225-1572076800-1572109200@hanauer-schwimmverein.de
SUMMARY:Lindenaumeeting
DESCRIPTION:Ausschreibung: Hier \nMeldeergebnis: 191026_Lindenaumeeting Meldeergebnis \nProtokoll: proto_gesamt_Lindenaumeeting261019
URL:https://hanauer-schwimmverein.de/termine/lindenaumeeting/
END:VEVENT
END:VCALENDAR