BEGIN:VCALENDAR
VERSION:2.0
PRODID:-//1. Hanauer Schwimmverein 1912 e.V. - ECPv6.2.9//NONSGML v1.0//EN
CALSCALE:GREGORIAN
METHOD:PUBLISH
X-ORIGINAL-URL:https://hanauer-schwimmverein.de
X-WR-CALDESC:Veranstaltungen für 1. Hanauer Schwimmverein 1912 e.V.
REFRESH-INTERVAL;VALUE=DURATION:PT1H
X-Robots-Tag:noindex
X-PUBLISHED-TTL:PT1H
BEGIN:VTIMEZONE
TZID:Europe/Berlin
BEGIN:DAYLIGHT
TZOFFSETFROM:+0100
TZOFFSETTO:+0200
TZNAME:CEST
DTSTART:20250330T010000
END:DAYLIGHT
BEGIN:STANDARD
TZOFFSETFROM:+0200
TZOFFSETTO:+0100
TZNAME:CET
DTSTART:20251026T010000
END:STANDARD
END:VTIMEZONE
BEGIN:VEVENT
DTSTART;TZID=Europe/Berlin:20250321T200000
DTEND;TZID=Europe/Berlin:20250321T200000
DTSTAMP:20260421T114345
CREATED:20250226T133421Z
LAST-MODIFIED:20250226T134427Z
UID:4870-1742587200-1742587200@hanauer-schwimmverein.de
SUMMARY:Jahreshauptversammlung um 20.00 Uhr im Schwimmbad Bistro la Taverna im Heinrich Fischer Bad
DESCRIPTION:Einladung zur Jahreshauptversammlung \n\n\n\nWir freuen uns riesig\, euch alle zur Jahreshauptversammlung einzuladen! Diese findet am 21. März 2025 um 20:00 Uhr im Bistro la Taverna des Schwimmbads statt. \n\n\n\nDie offizielle Einladung mit weiteren Details wird bald folgen. Wir freuen uns auf euer zahlreiches Erscheinen und einen regen Austausch! \n\n\n\nLiebe Grüße\,Eure 1. Hanauer Schwimmverein 1912 e.V.
URL:https://hanauer-schwimmverein.de/termine/jahreshauptversammlung-um-20-00-uhr-im-schwimmbad-bistro/
LOCATION:Heinrich-Fischer-Bad Hanau\, Eugen-Kaiser-Straße 19\, Hanau\,  63450
ATTACH;FMTTYPE=image/jpeg:https://hanauer-schwimmverein.de/wp-content/uploads/2025/02/treffen.jpg
END:VEVENT
END:VCALENDAR