BEGIN:VCALENDAR
VERSION:2.0
PRODID:-//1. Hanauer Schwimmverein 1912 e.V. - ECPv6.2.9//NONSGML v1.0//EN
CALSCALE:GREGORIAN
METHOD:PUBLISH
X-ORIGINAL-URL:https://hanauer-schwimmverein.de
X-WR-CALDESC:Veranstaltungen für 1. Hanauer Schwimmverein 1912 e.V.
REFRESH-INTERVAL;VALUE=DURATION:PT1H
X-Robots-Tag:noindex
X-PUBLISHED-TTL:PT1H
BEGIN:VTIMEZONE
TZID:Europe/Berlin
BEGIN:DAYLIGHT
TZOFFSETFROM:+0100
TZOFFSETTO:+0200
TZNAME:CEST
DTSTART:20240331T010000
END:DAYLIGHT
BEGIN:STANDARD
TZOFFSETFROM:+0200
TZOFFSETTO:+0100
TZNAME:CET
DTSTART:20241027T010000
END:STANDARD
END:VTIMEZONE
BEGIN:VEVENT
DTSTART;TZID=Europe/Berlin:20240708T183000
DTEND;TZID=Europe/Berlin:20240708T230000
DTSTAMP:20260422T002600
CREATED:20240704T121357Z
LAST-MODIFIED:20240704T122923Z
UID:4657-1720463400-1720479600@hanauer-schwimmverein.de
SUMMARY:Sommergrillfest am 08.07.24 um 18.30 Uhr im Vereinsheim
DESCRIPTION:Wir laden euch herzlich zu unserem diesjährigen Sommergrillfest ein! Lasst uns gemeinsam einen wunderbaren Sommerabend verbringen.Bringt gute Laune und Appetit mit!Wann: Montag\, 8. Juli 2024Zeit: 18:30 UhrWo: Vereinsheim
URL:https://hanauer-schwimmverein.de/termine/sommergrillfest-am-08-07-24-um-18-30-uhr-im-vereinsheim/
ATTACH;FMTTYPE=image/png:https://hanauer-schwimmverein.de/wp-content/uploads/2024/07/Screenshot-2024-07-04-141152.png
END:VEVENT
END:VCALENDAR