BEGIN:VCALENDAR
VERSION:2.0
PRODID:-//1. Hanauer Schwimmverein 1912 e.V. - ECPv6.2.9//NONSGML v1.0//EN
CALSCALE:GREGORIAN
METHOD:PUBLISH
X-ORIGINAL-URL:https://hanauer-schwimmverein.de
X-WR-CALDESC:Veranstaltungen für 1. Hanauer Schwimmverein 1912 e.V.
REFRESH-INTERVAL;VALUE=DURATION:PT1H
X-Robots-Tag:noindex
X-PUBLISHED-TTL:PT1H
BEGIN:VTIMEZONE
TZID:Europe/Berlin
BEGIN:DAYLIGHT
TZOFFSETFROM:+0100
TZOFFSETTO:+0200
TZNAME:CEST
DTSTART:20240331T010000
END:DAYLIGHT
BEGIN:STANDARD
TZOFFSETFROM:+0200
TZOFFSETTO:+0100
TZNAME:CET
DTSTART:20241027T010000
END:STANDARD
END:VTIMEZONE
BEGIN:VEVENT
DTSTART;VALUE=DATE:20240224
DTEND;VALUE=DATE:20240226
DTSTAMP:20260422T065414
CREATED:20240116T211354Z
LAST-MODIFIED:20240124T130451Z
UID:4126-1708732800-1708905599@hanauer-schwimmverein.de
SUMMARY:Erster Wettkampf in Bruchköbel am 24/25.02.24
DESCRIPTION:Wir starten durch! Unser erster Wettkampf steht an und findet am 24. und 25. Februar 2024 in Bruchköbel statt. Packt eure Schwimmsachen\, setzt euer bestes Lächeln auf und lasst uns gemeinsam unser Bestes im Wasser zeigen! Wir freuen uns auf eine spannende und erfolgreiche Zeit. \nHier finden Sie unsere Ausschreibung
URL:https://hanauer-schwimmverein.de/termine/erster-wettkampf-in-bruchkoebel-am-24-25-02-24/
LOCATION:Bruchköbel\, Röntgenstraße 14-16\, Bruchköbel\,  63486
ATTACH;FMTTYPE=image/jpeg:https://hanauer-schwimmverein.de/wp-content/uploads/2019/10/IMG_0220-e1703808130154.jpg
END:VEVENT
END:VCALENDAR