BEGIN:VCALENDAR
VERSION:2.0
PRODID:-//1. Hanauer Schwimmverein 1912 e.V. - ECPv6.2.9//NONSGML v1.0//EN
CALSCALE:GREGORIAN
METHOD:PUBLISH
X-WR-CALNAME:1. Hanauer Schwimmverein 1912 e.V.
X-ORIGINAL-URL:https://hanauer-schwimmverein.de
X-WR-CALDESC:Veranstaltungen fÃ¼r 1. Hanauer Schwimmverein 1912 e.V.
REFRESH-INTERVAL;VALUE=DURATION:PT1H
X-Robots-Tag:noindex
X-PUBLISHED-TTL:PT1H
BEGIN:VTIMEZONE
TZID:Europe/Berlin
BEGIN:DAYLIGHT
TZOFFSETFROM:+0100
TZOFFSETTO:+0200
TZNAME:CEST
DTSTART:20220327T010000
END:DAYLIGHT
BEGIN:STANDARD
TZOFFSETFROM:+0200
TZOFFSETTO:+0100
TZNAME:CET
DTSTART:20221030T010000
END:STANDARD
END:VTIMEZONE
BEGIN:VEVENT
DTSTART;TZID=Europe/Berlin:20220916T170000
DTEND;TZID=Europe/Berlin:20220916T190000
DTSTAMP:20260423T104707
CREATED:20220909T061528Z
LAST-MODIFIED:20220909T061528Z
UID:1864-1663347600-1663354800@hanauer-schwimmverein.de
SUMMARY:21. Hanauer Stadtlauf
DESCRIPTION:Stadtlauf_Plakate A4_Druckversion \nAuch wir sind dieses Jahr beim Stadtlauf dabei. Unsere Trainerin Mandy trifft sich gerne mit Interessierten aus unserem Verein und gemeinsam laufen sie die 6 Kilometer durch die Innenstadt. Das Schwimmtraining fÃ¼r die 1. und 2. Mannschaft entfÃ¤llt daher am 16.09.2022. \n 
URL:https://hanauer-schwimmverein.de/termine/21-hanauer-stadtlauf/
LOCATION:Marktplatz Hanau\, Am Markt\, Hanau\, 63450
END:VEVENT
END:VCALENDAR