BEGIN:VCALENDAR
VERSION:2.0
PRODID:-//1. Hanauer Schwimmverein 1912 e.V. - ECPv6.2.9//NONSGML v1.0//EN
CALSCALE:GREGORIAN
METHOD:PUBLISH
X-WR-CALNAME:1. Hanauer Schwimmverein 1912 e.V.
X-ORIGINAL-URL:https://hanauer-schwimmverein.de
X-WR-CALDESC:Veranstaltungen für 1. Hanauer Schwimmverein 1912 e.V.
REFRESH-INTERVAL;VALUE=DURATION:PT1H
X-Robots-Tag:noindex
X-PUBLISHED-TTL:PT1H
BEGIN:VTIMEZONE
TZID:Europe/Berlin
BEGIN:DAYLIGHT
TZOFFSETFROM:+0100
TZOFFSETTO:+0200
TZNAME:CEST
DTSTART:20200329T010000
END:DAYLIGHT
BEGIN:STANDARD
TZOFFSETFROM:+0200
TZOFFSETTO:+0100
TZNAME:CET
DTSTART:20201025T010000
END:STANDARD
END:VTIMEZONE
BEGIN:VEVENT
DTSTART;TZID=Europe/Berlin:20200620T080000
DTEND;TZID=Europe/Berlin:20200621T170000
DTSTAMP:20260425T034103
CREATED:20191204T125529Z
LAST-MODIFIED:20200602T043417Z
UID:1467-1592640000-1592758800@hanauer-schwimmverein.de
SUMMARY:ABGESAGT: 37. Großer Preis von Stockstadt
DESCRIPTION:Ausschreibung: 2020-06-21-Stocksta-Au
URL:https://hanauer-schwimmverein.de/termine/37-grosser-preis-von-stockstadt/
LOCATION:Waldschwimmbad Stockstadt\, Sportfeldsiedlung 31\, Stockstadt\, 63811
CATEGORIES:Wettkämpfe
END:VEVENT
END:VCALENDAR