BEGIN:VCALENDAR
VERSION:2.0
PRODID:-//1. Hanauer Schwimmverein 1912 e.V. - ECPv6.2.9//NONSGML v1.0//EN
CALSCALE:GREGORIAN
METHOD:PUBLISH
X-ORIGINAL-URL:https://hanauer-schwimmverein.de
X-WR-CALDESC:Veranstaltungen für 1. Hanauer Schwimmverein 1912 e.V.
REFRESH-INTERVAL;VALUE=DURATION:PT1H
X-Robots-Tag:noindex
X-PUBLISHED-TTL:PT1H
BEGIN:VTIMEZONE
TZID:Europe/Berlin
BEGIN:DAYLIGHT
TZOFFSETFROM:+0100
TZOFFSETTO:+0200
TZNAME:CEST
DTSTART:20200329T010000
END:DAYLIGHT
BEGIN:STANDARD
TZOFFSETFROM:+0200
TZOFFSETTO:+0100
TZNAME:CET
DTSTART:20201025T010000
END:STANDARD
END:VTIMEZONE
BEGIN:VEVENT
DTSTART;TZID=Europe/Berlin:20200606T080000
DTEND;TZID=Europe/Berlin:20200607T170000
DTSTAMP:20260425T034226
CREATED:20200113T140257Z
LAST-MODIFIED:20200505T041619Z
UID:1585-1591430400-1591549200@hanauer-schwimmverein.de
SUMMARY:ABGESAGT: Bezirksmeisterschaften HSV Mitte
DESCRIPTION:Ausschreibung: 2020-06-07-Frankfur-Au
URL:https://hanauer-schwimmverein.de/termine/bezirksmeisterschaften-hsv-mitte/
LOCATION:Riedbad Bergen-Enkheim\, Fritz-Schubert-Ring 2\, Frankfurt\, 60388
END:VEVENT
END:VCALENDAR